BEGIN:VCALENDAR
VERSION:2.0
PRODID:-//Stella&#039;s Wish Foundation - ECPv6.15.20//NONSGML v1.0//EN
CALSCALE:GREGORIAN
METHOD:PUBLISH
X-ORIGINAL-URL:https://www.stellaswish.org
X-WR-CALDESC:Events for Stella&#039;s Wish Foundation
REFRESH-INTERVAL;VALUE=DURATION:PT1H
X-Robots-Tag:noindex
X-PUBLISHED-TTL:PT1H
BEGIN:VTIMEZONE
TZID:America/Chicago
BEGIN:DAYLIGHT
TZOFFSETFROM:-0600
TZOFFSETTO:-0500
TZNAME:CDT
DTSTART:20220313T080000
END:DAYLIGHT
BEGIN:STANDARD
TZOFFSETFROM:-0500
TZOFFSETTO:-0600
TZNAME:CST
DTSTART:20221106T070000
END:STANDARD
BEGIN:DAYLIGHT
TZOFFSETFROM:-0600
TZOFFSETTO:-0500
TZNAME:CDT
DTSTART:20230312T080000
END:DAYLIGHT
BEGIN:STANDARD
TZOFFSETFROM:-0500
TZOFFSETTO:-0600
TZNAME:CST
DTSTART:20231105T070000
END:STANDARD
BEGIN:DAYLIGHT
TZOFFSETFROM:-0600
TZOFFSETTO:-0500
TZNAME:CDT
DTSTART:20240310T080000
END:DAYLIGHT
BEGIN:STANDARD
TZOFFSETFROM:-0500
TZOFFSETTO:-0600
TZNAME:CST
DTSTART:20241103T070000
END:STANDARD
END:VTIMEZONE
BEGIN:VEVENT
DTSTART;TZID=America/Chicago:20230610T070000
DTEND;TZID=America/Chicago:20230610T140000
DTSTAMP:20260421T210824
CREATED:20230330T133911Z
LAST-MODIFIED:20230330T190522Z
UID:4029-1686380400-1686405600@www.stellaswish.org
SUMMARY:Missouri Golf Outing 2023
DESCRIPTION:5th Annual Golf Tournament \n(4 Person Scramble) – Men & Women\nRegistration  7:00– 8:00   (NEW TIME) \nShotgun start:  8:00 AM \nLunch Included (Pork Steak Meal) \n$500 per team / $125 per player \nAwards Following Golf \n  \nWhen registering online\, please provide italicized information below in the yellow Order Notes box. \n\nSingle Player $125 (provide your Team Name)\nTeam $500 (provide 4 player names\, Team Name and Team Captain’s phone number)\n\nCan’t play but want to donate? \nYou can sponsor a team\, a hole\, or lunch or drinks. Select an item and order below or reach out directly to Don or Jason. \n\nCooler Cup Sponsor $500\nLunch Sponsor with Team entry $1\,200 (provide Company Name when ordering) – contact Don or Jason for more info or order online below.\nDrink Sponsor $500 (provide Company Name when ordering) – contact Don or Jason for more info or order online below.\nTeam Sponsor $500 (provide Team Name when ordering)\nFeatured Tent Sponsor $150 – Support your company at a premier hole (provide Company Name when ordering)\nHole Sponsor $100 – includes shared SIGN at a hole (provide Company Name or Personal Message when ordering)\nTrophy Sponsor $500 (provide Company Name when ordering)\n\nPayment is needed by June 1\, 2023. \n\n\n	Golf Team of 4\n	$540.00In stock \nAdd to cart	\n			\n\n\n	Golf Individual Player\n	$135.00In stock \nAdd to cart	\n			\n\n\n	Golf Lunch Sponsor + Team\n	$1\,500.00In stock \nAdd to cart	\n			\n\n\n	Cooler Cup Sponsor\n	$2\,000.00In stock \nAdd to cart	\n			\n\n\n	Trophy Sponsor\n	$500.00In stock \nAdd to cart	\n			\n\n\n	Golf Featured Tent Hole Sponsor\n	$150.00In stock \nAdd to cart	\n			\n\n\n	Golf Hole Sponsor\n	$125.00In stock \nAdd to cart	\n			\n\n\n	Golf Drink Sponsor\n	$500.00In stock \nAdd to cart	\n			\n\n\n\n  \nIf you prefer\, you may print\, complete and mail this form: 2023 Missouri Golf Outing. \nMake checks payable and mail to (due before June 1st):\nStella’s Wish Foundation\n13948 W Whitewood Dr.\nSun City West\, AZ  85375 \nFor more information\, call Don Czerniewski 314-938-9474 or Jason 618-741-1504.
URL:https://www.stellaswish.org/event/mo-golf-2023/
LOCATION:St. Peters Golf Club\, 200 Salt Lick Rd\, St. Peters
CATEGORIES:Fundraisers
END:VEVENT
END:VCALENDAR