BEGIN:VCALENDAR
VERSION:2.0
PRODID:-//Stella&#039;s Wish Foundation - ECPv6.15.20//NONSGML v1.0//EN
CALSCALE:GREGORIAN
METHOD:PUBLISH
X-WR-CALNAME:Stella&#039;s Wish Foundation
X-ORIGINAL-URL:https://www.stellaswish.org
X-WR-CALDESC:Events for Stella&#039;s Wish Foundation
REFRESH-INTERVAL;VALUE=DURATION:PT1H
X-Robots-Tag:noindex
X-PUBLISHED-TTL:PT1H
BEGIN:VTIMEZONE
TZID:America/Chicago
BEGIN:DAYLIGHT
TZOFFSETFROM:-0600
TZOFFSETTO:-0500
TZNAME:CDT
DTSTART:20220313T080000
END:DAYLIGHT
BEGIN:STANDARD
TZOFFSETFROM:-0500
TZOFFSETTO:-0600
TZNAME:CST
DTSTART:20221106T070000
END:STANDARD
BEGIN:DAYLIGHT
TZOFFSETFROM:-0600
TZOFFSETTO:-0500
TZNAME:CDT
DTSTART:20230312T080000
END:DAYLIGHT
BEGIN:STANDARD
TZOFFSETFROM:-0500
TZOFFSETTO:-0600
TZNAME:CST
DTSTART:20231105T070000
END:STANDARD
BEGIN:DAYLIGHT
TZOFFSETFROM:-0600
TZOFFSETTO:-0500
TZNAME:CDT
DTSTART:20240310T080000
END:DAYLIGHT
BEGIN:STANDARD
TZOFFSETFROM:-0500
TZOFFSETTO:-0600
TZNAME:CST
DTSTART:20241103T070000
END:STANDARD
END:VTIMEZONE
BEGIN:VEVENT
DTSTART;TZID=America/Chicago:20230310T113000
DTEND;TZID=America/Chicago:20230310T193000
DTSTAMP:20260422T012853
CREATED:20221103T002741Z
LAST-MODIFIED:20230303T170501Z
UID:3805-1678447800-1678476600@www.stellaswish.org
SUMMARY:Arizona Golf Outing 2023
DESCRIPTION:Come and golf with 6 LPGA Legends!\n  \nRegistration 11:30 am – 1:00 pm\nStart Time: 1:00 pm\nDinner and Awards following Round\n4 Person Scramble Best Ball – Men and Women\nPrintable Flyer\n  \nWhen registering online\, please provide italicized information below in the yellow Order Notes box. \n\nSingle Player $175 (provide your Team Name)\nTeam $700 (provide 4 player names\, Team Name and Team Captain’s phone number)\n\nCan’t play but want to donate? \nYou can sponsor a team\, a hole\, dinner or drinks and more!. Select an item or fill out the form below or reach out directly to Don or Kevin. \n\nHole Sponsor $100 – includes shared SIGN at a hole (provide Company Name or Personal Message)\nTent Sponsor $150 – includes TENT and SIGN at a premier hole & dinner for 2 following game (provide Company Name)\nTrophy Sponsor $1500 (provide Company Name)\nBeverage Sponsor $1000 (provide Company Name)\nDinner Sponsor $2500 (provide Company Name)\nLPGA Sponsor $4000 (provide Company Name)\n\n  \nPayment is needed by March 1\, 2023. \n\n\n	Trophy Sponsor\n	$1\,500.00In stock \nAdd to cart	\n			\n\n\n	Trophy Sponsor\n	$500.00In stock \nAdd to cart	\n			\n\n\n	BRONZE Sponsor – Attendance Prizes\n	$1\,000.00NEEDED \nAdd to cart	\n			\n\n\n	SILVER Sponsor – Trophies\n	$2\,500.00NEEDED \nAdd to cart	\n			\n\n\n	In Memory Of sponsor\n	$50.00unlimited \nAdd to cart	\n			\n\n\n	Golf Dinner Only\n	$40.00In stock \nAdd to cart	\n			\n\n\n	Golf Individual Player\n	$170.00In stock \nAdd to cart	\n			\n\n\n	GOLD Sponsor – Dinner\n	$3\,500.00NEEDED \nAdd to cart	\n			\n\n\n	Golf Team of 4\n	$680.00In stock \nAdd to cart	\n			\n\n\n	Golf Beverage Sponsor\n	$1\,000.00NEEDED \nAdd to cart	\n			\n\n\n	Golf Hole Tent Sponsor\n	$150.00In stock \nAdd to cart	\n			\n\n\n	Golf Hole Sponsor\n	$100.00In stock \nAdd to cart	\n			\n\n\n\n  \nIf you prefer\, you may print\, complete and mail this form: 2022 AZ Golf Outing flyer \nMake checks payable and mail to:\nStella’s Wish Foundation\n13948 W Whitewood Dr.\nSun City West\, AZ  85375 \nFor more information\, call Don Czerniewski 314-938-9474 or Kevin Wurgler 480-540-6572
URL:https://www.stellaswish.org/event/arizona-golf-outing-2023/
LOCATION:Briarwood Country Club\, 20800 N 135th Avenue\, Sun City West\, AZ\, 85375\, United States
CATEGORIES:Fundraisers
END:VEVENT
END:VCALENDAR