BEGIN:VCALENDAR
VERSION:2.0
PRODID:-//Stella&#039;s Wish Foundation - ECPv6.15.20//NONSGML v1.0//EN
CALSCALE:GREGORIAN
METHOD:PUBLISH
X-ORIGINAL-URL:https://www.stellaswish.org
X-WR-CALDESC:Events for Stella&#039;s Wish Foundation
REFRESH-INTERVAL;VALUE=DURATION:PT1H
X-Robots-Tag:noindex
X-PUBLISHED-TTL:PT1H
BEGIN:VTIMEZONE
TZID:America/Chicago
BEGIN:DAYLIGHT
TZOFFSETFROM:-0600
TZOFFSETTO:-0500
TZNAME:CDT
DTSTART:20200308T080000
END:DAYLIGHT
BEGIN:STANDARD
TZOFFSETFROM:-0500
TZOFFSETTO:-0600
TZNAME:CST
DTSTART:20201101T070000
END:STANDARD
BEGIN:DAYLIGHT
TZOFFSETFROM:-0600
TZOFFSETTO:-0500
TZNAME:CDT
DTSTART:20210314T080000
END:DAYLIGHT
BEGIN:STANDARD
TZOFFSETFROM:-0500
TZOFFSETTO:-0600
TZNAME:CST
DTSTART:20211107T070000
END:STANDARD
BEGIN:DAYLIGHT
TZOFFSETFROM:-0600
TZOFFSETTO:-0500
TZNAME:CDT
DTSTART:20220313T080000
END:DAYLIGHT
BEGIN:STANDARD
TZOFFSETFROM:-0500
TZOFFSETTO:-0600
TZNAME:CST
DTSTART:20221106T070000
END:STANDARD
END:VTIMEZONE
BEGIN:VEVENT
DTSTART;TZID=America/Chicago:20210612T113000
DTEND;TZID=America/Chicago:20210612T170000
DTSTAMP:20260423T061353
CREATED:20210112T124043Z
LAST-MODIFIED:20210128T213425Z
UID:2990-1623497400-1623517200@www.stellaswish.org
SUMMARY:Missouri Golf Outing 2021
DESCRIPTION:3rd Annual Golf Tournament at The Falls Golf Club \nWe will keep COVID-19 safety measures in mind and some changes might be put in place\, but we will have the tournament. \nRegistration 11:30 \nLunch 12:00-1:00 \nShotgun start: 1:00 PM \nAwards Following Round of Golf \nWhen registering online\, please provide italicized information below in the yellow Order Notes box. \n\nSingle Player $125 (provide your Team Name)\nTeam $500 (provide 4 player names\, Team Name and Team Captain’s phone number)\n\nCan’t play but want to donate? \nYou can sponsor a team\, a hole\, or lunch or drinks. Select an item or fill out the form below or reach out directly to Don or Jason. \n\nHole Sponsor $100 – includes shared SIGN at a hole (provide Company Name or Personal Message)\nTent Sponsor $150 – includes TENT and SIGN at a premier hole & dinner for 2 following game (provide Company Name)\nLunch Sponsor $600 (provide Company Name)\nDrink Sponsor $500 (provide Company Name)\nTeam Sponsor $500 (submit your Team Name)\n\n  \nPayment is needed by June 1\, 2020. \n\n  \nIf you prefer\, you may print\, complete and mail this form: 2021 Missouri Golf Outing. \nMake checks payable and mail to:\nStella’s Wish Foundation\n13948 W Whitewood Dr.\nSun City West\, AZ  85375 \nFor more information\, call Don Czerniewski 314-938-9474 or Jason 618-741-1504.
URL:https://www.stellaswish.org/event/missouri-golf-outing-2021/
LOCATION:The Falls Golf Club\, 1170 Turtle Creek Drive\, O'Fallon\, MO\, 63366\, United States
CATEGORIES:Fundraisers
END:VEVENT
END:VCALENDAR