BEGIN:VCALENDAR
VERSION:2.0
PRODID:-//Stella&#039;s Wish Foundation - ECPv6.15.20//NONSGML v1.0//EN
CALSCALE:GREGORIAN
METHOD:PUBLISH
X-ORIGINAL-URL:https://www.stellaswish.org
X-WR-CALDESC:Events for Stella&#039;s Wish Foundation
REFRESH-INTERVAL;VALUE=DURATION:PT1H
X-Robots-Tag:noindex
X-PUBLISHED-TTL:PT1H
BEGIN:VTIMEZONE
TZID:America/Chicago
BEGIN:DAYLIGHT
TZOFFSETFROM:-0600
TZOFFSETTO:-0500
TZNAME:CDT
DTSTART:20190310T080000
END:DAYLIGHT
BEGIN:STANDARD
TZOFFSETFROM:-0500
TZOFFSETTO:-0600
TZNAME:CST
DTSTART:20191103T070000
END:STANDARD
BEGIN:DAYLIGHT
TZOFFSETFROM:-0600
TZOFFSETTO:-0500
TZNAME:CDT
DTSTART:20200308T080000
END:DAYLIGHT
BEGIN:STANDARD
TZOFFSETFROM:-0500
TZOFFSETTO:-0600
TZNAME:CST
DTSTART:20201101T070000
END:STANDARD
BEGIN:DAYLIGHT
TZOFFSETFROM:-0600
TZOFFSETTO:-0500
TZNAME:CDT
DTSTART:20210314T080000
END:DAYLIGHT
BEGIN:STANDARD
TZOFFSETFROM:-0500
TZOFFSETTO:-0600
TZNAME:CST
DTSTART:20211107T070000
END:STANDARD
END:VTIMEZONE
BEGIN:VEVENT
DTSTART;VALUE=DATE:20200918
DTEND;VALUE=DATE:20200919
DTSTAMP:20260423T181151
CREATED:20200129T201540Z
LAST-MODIFIED:20210428T100742Z
UID:2478-1600387200-1600473599@www.stellaswish.org
SUMMARY:Dinner & Live Auction 2020 CANCELLED
DESCRIPTION:This event has been cancelled and replaced by an online auction and a raffle.\nThe Christy Banquet Center in O’Fallon\, MO \nCome and join us for an evening of fun and food as we enjoy this opportunity to give of ourselves.  The goal of Stella’s Wish Foundation is to grant wishes for terminally ill cancer patients 18 years of age and older. In respect of social distancing\, we will limit the attendance to 200 people.  Also\, we will have fewer silent auction items than normal in order to help with social distancing. \n\nDoors open @ 6:00 PM\nDinner & Drinks Provided\nSilent & Live Auction\nTables seat 8\nTickets are $50 per person (Pay before 9/1 and save $5.00 per person)\nALL TABLES MUST BE PAID FOR BEFORE SEPT 10\, 2020.\nCasual Dress\n\nOrder tickets below or print this form and mail with payment and first and last name of each person at the table to:\nStella’s Wish Foundation\, 1002 Pegasus Circle Drive\, St. Peters\, Mo 63376 \nPlease contact Don Czerniewski 314-938-9474 with any questions. \n\n\n	1/2 Page Ad with Logo in Program\n	$100.00still needed \nAdd to cart	\n			\n\n\n	Bear SPONSOR Stuffed Animals\n	$600.00still needed \nAdd to cart	\n			\n\n\n	Dinner for 1 Individual\n	$60.00still needed \nAdd to cart	\n			\n\n\n	Dinner TABLE for 8\n	$480.00still needed \nAdd to cart	\n			\n\n\n	In Memory Of a Loved One\n	$100.00In stock \nAdd to cart	\n			\n\n\n	SPONSOR the Dinner + Table\n	$3\,000.00still needed \nAdd to cart	\n			\n\n\n	SPONSOR the Drinks\n	$1\,000.00still needed \nAdd to cart
URL:https://www.stellaswish.org/event/8th-annual-dinner-live-auction/
LOCATION:The Christy Banquet Center\, 9000 Veterans Memorial Pkwy\, O'Fallon\, Missouri\, 63366
CATEGORIES:Fundraisers
END:VEVENT
BEGIN:VEVENT
DTSTART;TZID=America/Chicago:20200918T080000
DTEND;TZID=America/Chicago:20200919T220000
DTSTAMP:20260423T181151
CREATED:20200807T101841Z
LAST-MODIFIED:20200918T202559Z
UID:2671-1600416000-1600552800@www.stellaswish.org
SUMMARY:Online Auction
DESCRIPTION:Due to COVID-19\, our annual dinner/auction fundraiser has been cancelled. Thanks to generous donors\, we still have cool items to auction off! \nAuction ends Sat 9/19 at 7pm
URL:https://www.stellaswish.org/event/online-auction/
CATEGORIES:Fundraisers
END:VEVENT
END:VCALENDAR