BEGIN:VCALENDAR
VERSION:2.0
PRODID:-//Stella&#039;s Wish Foundation - ECPv6.15.20//NONSGML v1.0//EN
CALSCALE:GREGORIAN
METHOD:PUBLISH
X-WR-CALNAME:Stella&#039;s Wish Foundation
X-ORIGINAL-URL:https://www.stellaswish.org
X-WR-CALDESC:Events for Stella&#039;s Wish Foundation
REFRESH-INTERVAL;VALUE=DURATION:PT1H
X-Robots-Tag:noindex
X-PUBLISHED-TTL:PT1H
BEGIN:VTIMEZONE
TZID:UTC
BEGIN:STANDARD
TZOFFSETFROM:+0000
TZOFFSETTO:+0000
TZNAME:UTC
DTSTART:20190101T000000
END:STANDARD
END:VTIMEZONE
BEGIN:VEVENT
DTSTART;TZID=UTC:20200613T113000
DTEND;TZID=UTC:20200613T170000
DTSTAMP:20260423T222629
CREATED:20200129T201511Z
LAST-MODIFIED:20200601T200613Z
UID:2476-1592047800-1592067600@www.stellaswish.org
SUMMARY:Golf Tournament - 2nd Annual
DESCRIPTION:Registration/Lunch 11:30 – 1:00 \nLunch will be provided by Chick-fil-A of Wentzville\, MO \nShotgun start: 1:00 PM\nDinner & Awards Following \nCOVID-19 UPDATES \n\nWe may have to limit 1 person per cart.\nWe will not have Dinner after golf\, but will have some awards so we ask that you keep distance from people as much as possible.\nWe will have more instructions on that day and please be patient during this event. Remember it’s a FUNdraiser for a charity!  We at Stella’s Wish thank you for your support.\n\n  \nWhen registering\, please provide italicized information below in the yellow Order Notes box. \n\nSingle Player $100 (provide your Team Name)\nTeam $400 (provide 4 player names\, Team Name and Team Captain’s phone number)\n\nCan’t play but want to donate? \nYou can sponsor a team\, a hole\, or lunch. Select an item or fill out the form below or reach out directly to Don or Jason. \n\nTeam Sponsor $400 (submit your Team Name)\nFeatured Sponsor $100 – includes TENT and SIGN at a premier hole & dinner for 2 following game (provide Company Name)\nHole Sponsor $50 – includes shared SIGN at a hole (provide Company Name or Personal Message)\n\nPayment is needed by JUNE 1\, 2020. \n\n  \nIf you prefer\, you may print\, complete and mail THIS FORM. \nMake checks payable and mail to:\nStella’s Wish Foundation\n13948 W Whitewood Dr.\nSun City West\, AZ  85375 \nFor more information\, call: Don 314-938-9474 or Jason 618-741-1504 \n 
URL:https://www.stellaswish.org/event/golf-outing-2020/
LOCATION:The Falls Golf Club\, 1170 Turtle Creek Drive\, O'Fallon\, MO\, 63366\, United States
CATEGORIES:Fundraisers
END:VEVENT
END:VCALENDAR