BEGIN:VCALENDAR
VERSION:2.0
PRODID:-//Stella&#039;s Wish Foundation - ECPv6.15.20//NONSGML v1.0//EN
CALSCALE:GREGORIAN
METHOD:PUBLISH
X-WR-CALNAME:Stella&#039;s Wish Foundation
X-ORIGINAL-URL:https://www.stellaswish.org
X-WR-CALDESC:Events for Stella&#039;s Wish Foundation
REFRESH-INTERVAL;VALUE=DURATION:PT1H
X-Robots-Tag:noindex
X-PUBLISHED-TTL:PT1H
BEGIN:VTIMEZONE
TZID:UTC
BEGIN:STANDARD
TZOFFSETFROM:+0000
TZOFFSETTO:+0000
TZNAME:UTC
DTSTART:20190101T000000
END:STANDARD
END:VTIMEZONE
BEGIN:VEVENT
DTSTART;TZID=UTC:20200111T180000
DTEND;TZID=UTC:20200111T220000
DTSTAMP:20260424T062140
CREATED:20191011T120029Z
LAST-MODIFIED:20191022T192108Z
UID:2275-1578765600-1578780000@www.stellaswish.org
SUMMARY:Trivia Night 2020
DESCRIPTION:Date:      Saturday\, January 11\, 2020 \nTime:     7:00pm (doors open at 6:00pm) \nPlace:    Wild Acres\, 2500 Ashby Rd\, Overland\, MO \n\n\n	Trivia Night 2026 Drink Sponsor\n	$500.00In stock \nAdd to cart	\n			\n\n\n	Trivia Night 2026 Individual\n	$25.00In stock \nAdd to cart	\n			\n\n\n	Trivia Night 2026 Round Sponsor\n	$100.00In stock \nAdd to cart	\n			\n\n\n	Trivia Night 2026 TABLE\n	$200.00In stock \nAdd to cart	\n			\n\n\n\nEvening Includes: \n\nSilent auction & 50/50 raffle\nSoda and water provided\n\nBring snacks or other drinks. \nFor information: call Don at 314-938-9474. \nCLICK FOR PRINTABLE FLYER \n  \n  \n  \n 
URL:https://www.stellaswish.org/event/trivia-night-2020/
LOCATION:Wild Acres\, 2500 Ashby Road\, Overland\, MO\, 63114\, United States
CATEGORIES:Fundraisers
END:VEVENT
END:VCALENDAR