BEGIN:VCALENDAR
VERSION:2.0
PRODID:-//Stella&#039;s Wish Foundation - ECPv6.15.20//NONSGML v1.0//EN
CALSCALE:GREGORIAN
METHOD:PUBLISH
X-WR-CALNAME:Stella&#039;s Wish Foundation
X-ORIGINAL-URL:https://www.stellaswish.org
X-WR-CALDESC:Events for Stella&#039;s Wish Foundation
REFRESH-INTERVAL;VALUE=DURATION:PT1H
X-Robots-Tag:noindex
X-PUBLISHED-TTL:PT1H
BEGIN:VTIMEZONE
TZID:UTC
BEGIN:STANDARD
TZOFFSETFROM:+0000
TZOFFSETTO:+0000
TZNAME:UTC
DTSTART:20180101T000000
END:STANDARD
END:VTIMEZONE
BEGIN:VEVENT
DTSTART;TZID=UTC:20191102T120000
DTEND;TZID=UTC:20191102T140000
DTSTAMP:20260424T093401
CREATED:20191018T185942Z
LAST-MODIFIED:20191018T190633Z
UID:2284-1572696000-1572703200@www.stellaswish.org
SUMMARY:Road Rally
DESCRIPTION:Come join us for a beautiful fall drive to Eckert’s Farm for a fantastic Southern Fried Chicken lunch! \n \n$20.00 per person donation on that day\, but call Don (314-938-9474) to sign up.\nWe have limit of 35 people so hurry and reserve your spot. After lunch\, you are on your own to enjoy the day. \nLunch sponsors:    AAA-HOME APPLIANCE and BILL’S APPLIANCE \nDate:          Saturday\, November 2nd\, 2019 \nTime :        12:00 pm  (we will leave at 12:15) \nMeet at:    New Frontier Bank\, 3773 Elm St.\, St. Charles (off 370 ) \nDrive to:    Eckert’s Farm 951 South Green Mount Rd\, Belleville IL
URL:https://www.stellaswish.org/event/road-rally/
LOCATION:New Frontier Bank\, 3773 Elm St\, St. Charles\, MO\, 63301\, United States
CATEGORIES:Fundraisers
END:VEVENT
END:VCALENDAR