BEGIN:VCALENDAR
VERSION:2.0
PRODID:-//Stella&#039;s Wish Foundation - ECPv6.15.20//NONSGML v1.0//EN
CALSCALE:GREGORIAN
METHOD:PUBLISH
X-WR-CALNAME:Stella&#039;s Wish Foundation
X-ORIGINAL-URL:https://www.stellaswish.org
X-WR-CALDESC:Events for Stella&#039;s Wish Foundation
REFRESH-INTERVAL;VALUE=DURATION:PT1H
X-Robots-Tag:noindex
X-PUBLISHED-TTL:PT1H
BEGIN:VTIMEZONE
TZID:UTC
BEGIN:STANDARD
TZOFFSETFROM:+0000
TZOFFSETTO:+0000
TZNAME:UTC
DTSTART:20180101T000000
END:STANDARD
END:VTIMEZONE
BEGIN:VEVENT
DTSTART;TZID=UTC:20190920T180000
DTEND;TZID=UTC:20190920T210000
DTSTAMP:20260424T122416
CREATED:20181224T235547Z
LAST-MODIFIED:20230620T182713Z
UID:741-1569002400-1569013200@www.stellaswish.org
SUMMARY:Dinner & Live Auction 2019\, 7th Annual
DESCRIPTION:The Christy Banquet Center\, O’Fallon\, MO\nCome and join us for an evening of fun and food as we enjoy this opportunity to give of ourselves.  The goal of Stella’s Wish Foundation is to grant wishes for terminally ill cancer patients 18 years of age and older.  This charitable event allows the foundation to continue to grow and help individuals create memories with their loved ones.  Please join us for this special evening and hear testimonials from families helped by Stella’s Wish Foundation. \n\nDoors open @ 6:00 PM\nDinner & Drinks Provided\nSilent & Live Auction\nTables seat 8 (list names in NOTES section when ordering)\nTickets are $50 per person (Pay before 9/1 and save $5.00 per person)\nALL TABLES MUST BE PAID FOR BEFORE SEPT 10\, 2019.\nCasual Dress\n\nPrintable Flyer \n  \n\n\n	1/2 Page Ad with Logo in Program\n	$100.00still needed \nAdd to cart	\n			\n\n\n	Bear SPONSOR Stuffed Animals\n	$600.00still needed \nAdd to cart	\n			\n\n\n	Dinner for 1 Individual\n	$60.00still needed \nAdd to cart	\n			\n\n\n	Dinner TABLE for 8\n	$480.00still needed \nAdd to cart	\n			\n\n\n	In Memory Of a Loved One\n	$100.00In stock \nAdd to cart	\n			\n\n\n	SPONSOR the Dinner + Table\n	$3\,000.00still needed \nAdd to cart	\n			\n\n\n	SPONSOR the Drinks\n	$1\,000.00still needed \nAdd to cart
URL:https://www.stellaswish.org/event/7th-annual-dinner-auction/
LOCATION:The Christy Banquet Center\, 9000 Veterans Memorial Pkwy\, O'Fallon\, Missouri\, 63366
CATEGORIES:Fundraisers
END:VEVENT
END:VCALENDAR