BEGIN:VCALENDAR
VERSION:2.0
PRODID:-//Stella&#039;s Wish Foundation - ECPv6.15.20//NONSGML v1.0//EN
CALSCALE:GREGORIAN
METHOD:PUBLISH
X-ORIGINAL-URL:https://www.stellaswish.org
X-WR-CALDESC:Events for Stella&#039;s Wish Foundation
REFRESH-INTERVAL;VALUE=DURATION:PT1H
X-Robots-Tag:noindex
X-PUBLISHED-TTL:PT1H
BEGIN:VTIMEZONE
TZID:UTC
BEGIN:STANDARD
TZOFFSETFROM:+0000
TZOFFSETTO:+0000
TZNAME:UTC
DTSTART:20180101T000000
END:STANDARD
END:VTIMEZONE
BEGIN:VEVENT
DTSTART;TZID=UTC:20190504T071500
DTEND;TZID=UTC:20190504T071500
DTSTAMP:20260424T185606
CREATED:20181224T222505Z
LAST-MODIFIED:20190417T234940Z
UID:685-1556954100-1556954100@www.stellaswish.org
SUMMARY:5K Run/1 mile Walk
DESCRIPTION:Register at\nhttp://www.fleetfeetstlouis.com/racecalendar/stellas-wish\n  \n \n  \n  \n  \n 
URL:https://www.stellaswish.org/event/5k-and-fun-run/
LOCATION:370 Lakeside Park\, 1000 Lakeside Park Drive\, St. Peters\, Missouri\, 63376
CATEGORIES:Fundraisers
ATTACH;FMTTYPE=image/jpeg:https://www.stellaswish.org/wp-content/uploads/runners.jpg
END:VEVENT
END:VCALENDAR