BEGIN:VCALENDAR
VERSION:2.0
PRODID:-//Stella&#039;s Wish Foundation - ECPv6.15.20//NONSGML v1.0//EN
CALSCALE:GREGORIAN
METHOD:PUBLISH
X-WR-CALNAME:Stella&#039;s Wish Foundation
X-ORIGINAL-URL:https://www.stellaswish.org
X-WR-CALDESC:Events for Stella&#039;s Wish Foundation
REFRESH-INTERVAL;VALUE=DURATION:PT1H
X-Robots-Tag:noindex
X-PUBLISHED-TTL:PT1H
BEGIN:VTIMEZONE
TZID:UTC
BEGIN:STANDARD
TZOFFSETFROM:+0000
TZOFFSETTO:+0000
TZNAME:UTC
DTSTART:20180101T000000
END:STANDARD
END:VTIMEZONE
BEGIN:VEVENT
DTSTART;TZID=UTC:20190216T180000
DTEND;TZID=UTC:20190216T220000
DTSTAMP:20260424T231144
CREATED:20181224T204821Z
LAST-MODIFIED:20191105T180458Z
UID:647-1550340000-1550354400@www.stellaswish.org
SUMMARY:Trivia Night 2019
DESCRIPTION:Thanks so much to all our who came out to support our first Trivia Night – we raised $5650.08! \n  \nStella’s Wish\n1st Annual Trivia Night\nDoors open @ 6pm and Trivia starts @ 7pm\nEvening Includes: Silent Auction & 50/50 Raffle\nSoda and Water Provided\nBring your own snacks and drinks!\nCost: $25/person ($20 before February 1\, 2019) or $200/table of 8 ($160 before February 1\, 2019)\nTables can be reserved below OR checks made out to Stella’s Wish Foundation may be mailed to:\nStella’s Wish Foundation\n1004 Pearview Drive\nSt. Peters\, MO 63376\nFor more info: Call Don Czerniewski @ 314-938-WISH \nCLICK FOR PRINTABLE FLYER \n  \n  \n  \n 
URL:https://www.stellaswish.org/event/trivia-night/
LOCATION:Wild Acres\, 2500 Ashby Road\, Overland\, MO\, 63114\, United States
CATEGORIES:Fundraisers
END:VEVENT
END:VCALENDAR